BEGIN:VCALENDAR
VERSION:2.0
PRODID:-//hacksw/handcal//NONSGML v1.0//EN
BEGIN:VEVENT
SUMMARY:1/2 journee a La bintinais
UID:007d3c15-7914-4a35-a9b8-5d32a599a370
DTSTART:20260402T113000Z
DTEND:20260402T160000Z
LOCATION:Localisation   
CATEGORIES:Entrainement
STATUS:
DESCRIPTION:<p>Depart de la Maison pour Tous en covoiturage a
 13h30</p>
 
 <p>circuit de  12kms  chaussures
 (Facile) </p>
 
 <p>Distance vehicule 10 km
 (aller-retour)</p>
 
 <p>Marie-Therese et Erick</p>
URL;VALUE=URI:https://randobaladapats35.sportsregions.fr/evenements/2026/04/02/12-journee-a-la-bintinais-2393185
END:VEVENT
END:VCALENDAR
