BEGIN:VCALENDAR
VERSION:2.0
PRODID:-//hacksw/handcal//NONSGML v1.0//EN
BEGIN:VEVENT
SUMMARY:Chantepie
UID:c2e507d9-15a4-4c7c-a931-2319d9aab219
DTSTART:20260427T080000Z
DTEND:20260427T100000Z
LOCATION:Localisation   
CATEGORIES:Entrainement
STATUS:
URL;VALUE=URI:https://randobaladapats35.sportsregions.fr/evenements/2026/04/27/chantepie-2443516
END:VEVENT
END:VCALENDAR
