BEGIN:VCALENDAR
VERSION:2.0
PRODID:-//hacksw/handcal//NONSGML v1.0//EN
BEGIN:VEVENT
SUMMARY:Cesson Les Bonnets Rouges
UID:86f1e348-78e8-4b36-92d7-aac8f934990f
DTSTART:20260428T064500Z
DTEND:20260428T100000Z
LOCATION:Localisation   
CATEGORIES:Entrainement
STATUS:
URL;VALUE=URI:https://randobaladapats35.sportsregions.fr/evenements/2026/04/28/cesson-les-bonnets-rouges-2404789
END:VEVENT
END:VCALENDAR
