BEGIN:VCALENDAR
VERSION:2.0
PRODID:-//hacksw/handcal//NONSGML v1.0//EN
BEGIN:VEVENT
SUMMARY:LE BOEL
UID:f9f6886d-4dd2-4701-9c49-28cfca137099
DTSTART:20260512T064500Z
DTEND:20260512T100000Z
LOCATION:Localisation   
CATEGORIES:Entrainement
STATUS:
URL;VALUE=URI:https://randobaladapats35.sportsregions.fr/evenements/2026/05/12/le-boel-2443659
END:VEVENT
END:VCALENDAR
