BEGIN:VCALENDAR
VERSION:2.0
PRODID:-//hacksw/handcal//NONSGML v1.0//EN
BEGIN:VEVENT
SUMMARY:BETTON
UID:62d06446-0f7f-434e-a804-47e34a91784e
DTSTART:20260519T064500Z
DTEND:20260519T100000Z
LOCATION:Localisation   
CATEGORIES:Entrainement
STATUS:
URL;VALUE=URI:https://randobaladapats35.sportsregions.fr/evenements/2026/05/19/betton-2443660
END:VEVENT
END:VCALENDAR
