BEGIN:VCALENDAR
VERSION:2.0
PRODID:-//hacksw/handcal//NONSGML v1.0//EN
BEGIN:VEVENT
SUMMARY:GAYEULLES CIRCUIT DES LOUVRIES
UID:ce32d460-b1f1-4d9c-acd2-5e97bb79cb39
DTSTART:20260521T064500Z
DTEND:20260521T100000Z
LOCATION:Localisation   
CATEGORIES:Entrainement
STATUS:
URL;VALUE=URI:https://randobaladapats35.sportsregions.fr/evenements/2026/05/21/gayeulles-circuit-des-louvries-2443662
END:VEVENT
END:VCALENDAR
