BEGIN:VCALENDAR
VERSION:2.0
PRODID:-//hacksw/handcal//NONSGML v1.0//EN
BEGIN:VEVENT
SUMMARY:La Cantache
UID:1d447503-5f21-42cd-a043-a2e5ee7e17f4
DTSTART:20260526T064500Z
DTEND:20260526T100000Z
LOCATION:Localisation   
CATEGORIES:Entrainement
STATUS:
URL;VALUE=URI:https://randobaladapats35.sportsregions.fr/evenements/2026/05/26/la-cantache-2443663
END:VEVENT
END:VCALENDAR
