BEGIN:VCALENDAR
VERSION:2.0
PRODID:-//hacksw/handcal//NONSGML v1.0//EN
BEGIN:VEVENT
SUMMARY:Nouvoitou
UID:433e8658-6944-4ee8-9333-de7f3dcb19b7
DTSTART:20260528T064500Z
DTEND:20260528T100000Z
LOCATION:Localisation   
CATEGORIES:Entrainement
STATUS:
URL;VALUE=URI:https://randobaladapats35.sportsregions.fr/evenements/2026/05/28/nouvoitou-2443664
END:VEVENT
END:VCALENDAR
